BEGIN:VCALENDAR
VERSION:2.0
PRODID:-//Sardegna Concerti - ECPv6.15.20//NONSGML v1.0//EN
CALSCALE:GREGORIAN
METHOD:PUBLISH
X-WR-CALNAME:Sardegna Concerti
X-ORIGINAL-URL:https://sardegnaconcerti.it
X-WR-CALDESC:Eventi per Sardegna Concerti
REFRESH-INTERVAL;VALUE=DURATION:PT1H
X-Robots-Tag:noindex
X-PUBLISHED-TTL:PT1H
BEGIN:VTIMEZONE
TZID:UTC
BEGIN:STANDARD
TZOFFSETFROM:+0000
TZOFFSETTO:+0000
TZNAME:UTC
DTSTART:20230101T000000
END:STANDARD
END:VTIMEZONE
BEGIN:VEVENT
DTSTART;TZID=UTC:20240801T213000
DTEND;TZID=UTC:20240801T230000
DTSTAMP:20260421T142525
CREATED:20240628T095935Z
LAST-MODIFIED:20240628T101504Z
UID:7300-1722547800-1722553200@sardegnaconcerti.it
SUMMARY:Andrea Casta-The Space Violin Dance Experience@ Sant'Antioco
DESCRIPTION:Andrea Casta\, il più celebre violinista elettrico italiano\, arriva in Sardegna per la prima volta! Si esibirà\, in occasione della 665 edizione della festa padronale di Sant’Antioco Martire\, giovedì 1 agosto alle ore 21:30 in piazza Umberto a Sant’Antioco. \n“The Space Violin – Dance Experience” è un rito collettivo pieno di energia sullo stile dei grandi festival elettronici internazionali\, in cui si balla e si canta immersi in suoni dance\, in un racconto visivo su ledwall ed effetti speciali. Casta\, con il suo inconfondibile archetto luminoso\, è emerso come uno degli artisti creativi più innovativi della scena pop-dance: porta sul palco la visione multimediale del violino\nelettrico come narratore del suo tempo.\nNegli ultimi anni ha suonato in 30 nazioni\, raggiungendo 400mila followers e più di 30 milioni di views sui social network. Nei tour internazionali\, nella produzione musicale e di video e nel dialogo continuo con i fan sui social è riuscito a sintonizzare il suo immaginario\ne il suono delle corde con la sensibilità del nostro tempo. La stessa idea la porta sul palco: una comunicazione sintetica e veloce ma non priva di profondità\, in cui si balla e canta insieme al pubblico mentre sui ledwall scorrono i temi dell’amore per la natura e la\nsalvaguardia del nostro pianeta\, per poi lanciare lo sguardo al futuro con il suo The Space Violin Project e dare spazio alle bellezze della nostra Italia. \nPer le date in Sardegna Andrea sarà accompagnato in consolle da Andrea Laddo\, deejay sardo noto nella scena dei club e già protagonista su numerosi grandi palchi. Andrea Casta nelle ultime stagioni ha aperto i 2 concerti record di Vasco Rossi al Circo Massimo di Roma\, è stato protagonista della performance in griglia di partenza al Gran Premio d’Italia di Monza\, ha partecipato alle cerimonie di apertura di Expo Dubai e dei Mondiali di sci di Cortina 2021\, e la scorsa stagione l’ha visto protagonista di un tour teatrale sold out con date a Roma\, Milano\, Verona\, Bologna e in molte altre città italiane. \nIngresso libero.
URL:https://sardegnaconcerti.it/event/andrea-casta-the-space-violin-dance-experience-santantioco/
LOCATION:Piazza Umberto\, Sant'Antioco\, Italia
CATEGORIES:Santantioco
ATTACH;FMTTYPE=image/jpeg:https://sardegnaconcerti.it/wp-content/uploads/2024/06/tinywow_Frame-3-5_59161804.jpg
END:VEVENT
END:VCALENDAR