BEGIN:VCALENDAR
VERSION:2.0
PRODID:-//Sardegna Concerti - ECPv6.15.20//NONSGML v1.0//EN
CALSCALE:GREGORIAN
METHOD:PUBLISH
X-ORIGINAL-URL:https://sardegnaconcerti.it
X-WR-CALDESC:Eventi per Sardegna Concerti
REFRESH-INTERVAL;VALUE=DURATION:PT1H
X-Robots-Tag:noindex
X-PUBLISHED-TTL:PT1H
BEGIN:VTIMEZONE
TZID:UTC
BEGIN:STANDARD
TZOFFSETFROM:+0000
TZOFFSETTO:+0000
TZNAME:UTC
DTSTART:20230101T000000
END:STANDARD
END:VTIMEZONE
BEGIN:VEVENT
DTSTART;TZID=UTC:20240503T203000
DTEND;TZID=UTC:20240503T233000
DTSTAMP:20260421T192418
CREATED:20240325T170027Z
LAST-MODIFIED:20240326T150654Z
UID:6684-1714768200-1714779000@sardegnaconcerti.it
SUMMARY:Omar Pedrini Live@ Teatro Massimo Cagliari
DESCRIPTION:ACQUISTA IL BIGLIETTO\nVIAGGIO TRA PAROLE E MUSICA CON OMAR PEDRINI  \nLETTURE MUSICALI DALLA BIOGRAFIA “CANE SCIOLTO” RED EDITION \nParole e Musica per un evento di grande intensità e coinvolgimento. \nOmar ripercorre i momenti più significativi della sua carriera in Italia e nel Regno Unito con racconti pregni di emozione ed anche ironia intervallando con i pezzi salienti scritti accompagnato alla voce da Davide Apollo. \nUn viaggio che non è sempre uguale \, perché segue l’onda emotiva propria e del suo fedelissimo pubblico… quindi sempre inedito e sempre con una sorpresa dietro un tornante. \nAlla lettura di alcuni tratti della sua Biografia “Cane sciolto” RED edition (seconda e rivisitata edizione di questo libro culto\, scritto con Federico Scarioni) Roberta Girotto. \nOspiti della serata la band sarda dei Tamurita che nel 2021\, con Omar Pedrini\, ha scritto e pubblicato il brano “Chi ama vince”. \nACQUISTA IL BIGLIETTO
URL:https://sardegnaconcerti.it/event/omar-pedrini-live-teatro-massimo-cagliari/
LOCATION:Teatro Massimo\, Cagliari\, Via E. De Magistris 12\, Cagliari\, 09123
CATEGORIES:Cagliari,Concerti
ATTACH;FMTTYPE=image/jpeg:https://sardegnaconcerti.it/wp-content/uploads/2024/03/OMAR-PEDRINI-0.jpeg
END:VEVENT
END:VCALENDAR