BEGIN:VCALENDAR
VERSION:2.0
PRODID:-//Sardegna Concerti - ECPv6.15.20//NONSGML v1.0//EN
CALSCALE:GREGORIAN
METHOD:PUBLISH
X-ORIGINAL-URL:https://sardegnaconcerti.it
X-WR-CALDESC:Eventi per Sardegna Concerti
REFRESH-INTERVAL;VALUE=DURATION:PT1H
X-Robots-Tag:noindex
X-PUBLISHED-TTL:PT1H
BEGIN:VTIMEZONE
TZID:UTC
BEGIN:STANDARD
TZOFFSETFROM:+0000
TZOFFSETTO:+0000
TZNAME:UTC
DTSTART:20230101T000000
END:STANDARD
END:VTIMEZONE
BEGIN:VEVENT
DTSTART;TZID=UTC:20240209T203000
DTEND;TZID=UTC:20240209T233000
DTSTAMP:20260422T002236
CREATED:20231214T135847Z
LAST-MODIFIED:20240208T145147Z
UID:6564-1707510600-1707521400@sardegnaconcerti.it
SUMMARY:SOLD OUT - Franco Mussida In Concerto Live@ Teatro Massimo Cagliari
DESCRIPTION:SOLD OUT \nFRANCO MUSSIDA IN CONCERTO \nFranco Mussida in concerto a Cagliari per presentare i brani del suo ultimo album “Il Pianeta della Musica e il viaggio di Iòtu” \nIl concerto segna l’inizio della nuova fase artistica del musicista che\, oltre a far vivere sul palco il viaggio di Iòtu nel mondo interiore\, assegna al tema della qualità del suono un ruolo centrale. In scaletta\, oltre le composizioni contenute nel disco\, anche momenti musicali inediti e improvvisazioni da vivere intensamente con il pubblico in sala. \nSul palco con Franco Mussida quattro musicisti di eccellenza del CPM Music Institute: Giulia Lazzerini\, (voce\, diplomata CPM) Giuseppe Lai (basso e chitarra\, studente CPM ); Davide Chioggia (batteria\, diplomato CPM ); Alessandro Spoldi (tastiere\, diplomato e docente CPM) \nDurata 1 ora e mezza \nSOLD OUT
URL:https://sardegnaconcerti.it/event/franco-mussida-concerto-live-teatro-massimo-cagliari/
LOCATION:Teatro Massimo\, Cagliari\, Via E. De Magistris 12\, Cagliari\, 09123
CATEGORIES:Cagliari,Concerti
ATTACH;FMTTYPE=image/jpeg:https://sardegnaconcerti.it/wp-content/uploads/2023/12/160A1333.jpeg
END:VEVENT
END:VCALENDAR