BEGIN:VCALENDAR
VERSION:2.0
PRODID:-//Sardegna Concerti - ECPv6.15.20//NONSGML v1.0//EN
CALSCALE:GREGORIAN
METHOD:PUBLISH
X-ORIGINAL-URL:https://sardegnaconcerti.it
X-WR-CALDESC:Eventi per Sardegna Concerti
REFRESH-INTERVAL;VALUE=DURATION:PT1H
X-Robots-Tag:noindex
X-PUBLISHED-TTL:PT1H
BEGIN:VTIMEZONE
TZID:UTC
BEGIN:STANDARD
TZOFFSETFROM:+0000
TZOFFSETTO:+0000
TZNAME:UTC
DTSTART:20220101T000000
END:STANDARD
END:VTIMEZONE
BEGIN:VEVENT
DTSTART;TZID=UTC:20231117T153000
DTEND;TZID=UTC:20231119T233000
DTSTAMP:20260422T053201
CREATED:20231027T160238Z
LAST-MODIFIED:20231027T181323Z
UID:6529-1700235000-1700436600@sardegnaconcerti.it
SUMMARY:"ON STAGE con Laura Valente"
DESCRIPTION:Seminario/stage per cantanti ed interpreti di musica pop\nDurata: dal 17 al 19 novembre 2023 per un totale di 15 ore di lezione\n\nLO STAGE SI CONCLUDERÀ il 19 NOVEMBRE\,ORE 20:30\, AL TEATRO MASSIMO\, CON IL CONCERTO DEGLI ALLIEVI INSIEME A LAURA VALENTE E ALLA BAND DELL’ACCADEMIA DEL POP.\n\nLo stage di formazione (15 ore) tenuto da Laura Valente (Matia Bazar\, Mango) fa parte del programma dell’ Accademia del Pop\, iniziativa intrapresa da Sardegna Concerti e finanziata dalla Fondazione di Sardegna con la direzione artistica di Massimo Satta: una serie di appuntamenti che vogliono celebrare la musica come espressione artistica\, sociale ed economica\, rivolta alla formazione del pubblico attraverso lezioni concerto e alla crescita professionale dei giovani attraverso lo strumento degli stages e delle masterclass.\n\n“ON STAGE” è indirizzato ai cantanti e agli interpreti che vogliono approfondire gli aspetti del canto come mezzo di comunicazione.\nCantare significa comunicare e quindi la voce è un mezzo\, mai un fine. Partendo da questo presupposto\, l’obiettivo dello stage sarà capire e sperimentare sé stessi attraverso la musica\, in modo da riuscire a dar voce alle proprie emozioni e saperle trasmettere a chi ci sta ascoltando.\n\nSi analizzeranno i testi delle canzoni\, cercando insieme di raggiungere una maggiore consapevolezza delle proprie attitudini personali e di come sapersi valorizzare tramite la scelta di un repertorio adatto.\nSi lavorerà inoltre con ogni allievo sul potenziamento delle abilità interpretative e sulle tecniche di gestione dell’ansia\, in modo da ottenere l’ottimizzazione della performance live.\nPer info scrivere a accademiadelpop@gmail.com\n\n\nLAURA VALENTE \nBIOGRAFIA\nNel 1982\, non ancora ventenne\, firma il suo primo contratto discografico per la Fonit Cetra. Mara Maionchi e Alberto Salerno producono il suo LP d’esordio\, con musiche di Mango.\n\nDopo un contratto con la Emi e un paio di 45 giri\, negli anni ’90 diventa voce solista dei Matia Bazar\, partecipando a 4 LP e a tournée in Italia\, Europa\, Russia e Canada. \n\nHa al suo attivo 4 partecipazioni al Festival di Sanremo: nel ’92 e nel ’93 in gara con i Matia\, nel 2007 nella serata degli ospiti\, a fianco di Mango\, suo marito e nel 2016 come membro della Giuria di Qualità.\nSuccessivamente alla sua uscita dal gruppo partecipa a diverse produzioni teatrali\, in cui coniuga canto e recitazione (e’ del 2010 “Casta Diva”\, spettacolo sulla vita di Maria Callas che debutta a Villa Torlonia e che viene poi ripreso dal Teatro Italia a Roma).\n\nHa inoltre collaborato per 5 anni con Radio Inblu\, ideando e conducendo “Pensieri&Parole”\, un programma di approfondimento letterario e nel 2017 e 2018\, in coppia con il prof. Flavio Caroli\, un programma settimanale sulla storia dell’arte.\n\nAttualmente si dedica alla ricerca di giovani talenti e all’insegnamento della comunicazione emotiva attraverso il canto\, percorso iniziato nel 2016 al Cet di Mogol\, continuato agli Studi Fonoprint di Bologna e che ora svolge prevalentemente presso il suo studio\, Il Cantiere di Assago. Rarissime ormai le sue performance canore\, l’ultima delle quali al Blue Note di Milano\, lo scorso novembre\, nel corso di una serata benefica organizzata dalla Fondazione Rava\, in cui si è esibita con Paolo Fresu e Rita Marcotulli.
URL:https://sardegnaconcerti.it/event/accademia-del-pop-on-stage-laura-valente/
LOCATION:Teatro Massimo\, Cagliari\, Via E. De Magistris 12\, Cagliari\, 09123
CATEGORIES:Cagliari,Concerti
ATTACH;FMTTYPE=image/jpeg:https://sardegnaconcerti.it/wp-content/uploads/2023/10/laura-valente-on-stage.jpg
END:VEVENT
BEGIN:VEVENT
DTSTART;TZID=UTC:20231117T203000
DTEND;TZID=UTC:20231117T230000
DTSTAMP:20260422T053201
CREATED:20221216T142326Z
LAST-MODIFIED:20231027T165007Z
UID:6015-1700253000-1700262000@sardegnaconcerti.it
SUMMARY:SOLD OUT - Max Gazzè Live@ Teatro Massimo Cagliari
DESCRIPTION:SOLD OUT \nMAX GAZZÉ TORNA A CAGLIARI NEL 2023 CON UN NUOVO TOUR NEI TEATRI TRA ITALIA ED EUROPA \nMax Gazzè annuncia il prossimo progetto discografico e live che farà tappa il 17 e il 18 novembre 2023 al Teatro Massimo di Cagliari! \nMax Gazzè “Il teatro è la casa di tutte le storie e questa sarà la mia”. Un tour nei teatri tra Italia e Europa e un nuovo disco: Max Gazzè annuncia il suo ritorno discografico e live nell’autunno del 2023 con un progetto a tutto tondo che lo vedrà esibirsi anche sui palchi dei grandi teatri internazionali.\nCresciuto tra Belgio\, Francia e Inghilterra\, Gazzè ha da sempre la naturale propensione a mescolare le sue radici italiane con le suggestioni musicali internazionali. \nInsieme ai suoi musicisti di sempre\, l’artista il prossimo autunno sarà così impegnato con un tour che si preannuncia palcoscenico perfetto per i suoi suoni\, che in Europa approderanno anche a Barcellona\, Praga\, Bruxelles\, Berlino\, mentre in Italia sono già in programma doppie date a Milano\, Roma\, Torino\, Bologna e Cagliari. \n  \n \n  \nMax Gazzè\, trent’anni di carriera musicale\nBassista d’eccezione\, straordinario musicista\, compositore di opere ‘sintoniche’ e colonne sonore\, attore sporadico e pilota sopra le righe: Max Gazzè è un artista ed un uomo capace di spostarsi in ambiti diversissimi sempre con grandissimo successo. In ogni cosa lo muovono una passione e una vitalità sconfinate\, una energia che lui trasmette al pubblico in uno scambio reciproco. Apolide nel cuore\, cittadino del mondo nella storia personale\, Max ha suonato in tre continenti (Europa\, America\, Asia)\, è seguito da un pubblico affezionato sparso in tutta Europa; ha collaborato con oltre 30 artisti tra italiani e internazionali (tra cui Stewart Copeland). Musicista e compositore versatile\, capace di spaziare dal punk al pop\, fino alla composizione sinfonica (“Alchemaya”). I suoi testi più poetici (L’uomo più furbo\, Figlia\, Su un ciliegio esterno\, Mentre dormi)\, le sue composizioni più sperimentali (Il bagliore dato a questo sole\, Questo forte silenzio o Colloquium Vitae)\, sono amati tanto quanto le sue più note ‘canzonacce’ (Una musica può fare\, Sotto casa\, La vita com’è). \n \nIl nuovo disco “Amor Fabulas”\nMax Gazzè torna sulla scena discografica con tante novità: un nuovo inedito\, “Che c’è di male”\, in uscita il prossimo 6 ottobre\, un nuovo tour\, e un nuovo album di inediti\, “Amor Fabulas”\, già annunciato per la primavera 2024 per Sony Music/Epic Records. \n“Che c’è di male”\, il primo singolo del nuovo progetto\, da venerdì 6 ottobre sarà disponibile in radio e su tutte le piattaforme digitali. Registrato in Inghilterra nel suggestivo contesto dei Real World Studios di Peter Gabriel (come tutto il disco)\, il brano vede la rinnovata e brillante collaborazione nel testo dello stesso Max con il fratello Francesco Gazzè.\nSapori del miglior pop-rock si intrecciano e fondono in un brano che\, ricco di tanta musica suonata – marchio di fabbrica di Gazzè – \, libera l’amore dai luoghi comuni del sentimento da fiaba e delle convenzioni\, portandolo alla sua essenza più alta. Un tappeto di parole tra disillusione\, romanticismo concreto e poesia\, descrive il concetto “È solo un fatto di retaggio culturale se metto un limite al mio cuore”. \nLa resa live del nuovo progetto discografico sarà “Amor Fabulas – Preludio”\, la nuova tournée prodotta e organizzata da OTR Live\, in partenza con una speciale data zero il 28 ottobre. Il tour proseguirà a novembre nei più importanti teatri d’Italia con uno spettacolo completamente inedito\, con sonorità diverse e una scaletta che si muove tra passato e futuro.\nIl pubblico avrà infatti la possibilità di ascoltare\, oltre ad alcuni degli irrinunciabili successi\, brani storici mai suonati prima dal vivo e anche quattro inediti che saranno contenuti nel nuovo album\, tra cui “Che c’è di male”. \nAlla band storica\, composta da Cristiano Micalizzi Batteria – Daniele Fiaschi Chitarra – Clemente Ferrari Tastiere – Max Dedo fiati\, si aggiungono due nuove importanti figure: Greta Zuccoli ai cori e Nicola Molino al vibrafono\, entrambi polistrumentisti. Il loro apporto sarà fondamentale per creare le atmosfere avvolgenti e oniriche di cui questo spettacolo ha bisogno. \nMax Gazzè torna in Sardegna\nMax Gazzè e la sua band ti aspettano il 17 novembre 2023 al Teatro Massimo di Cagliari\, i biglietti per il concerto sono disponibili sul sito di Sardinia Ticket\, non perdere l’occasione e ottieni subito il tuo titolo d’ingresso! \nSOLD OUT
URL:https://sardegnaconcerti.it/event/max-gazze-17-novembre-live-teatro-massimo-cagliari/
LOCATION:Teatro Massimo\, Cagliari\, Via E. De Magistris 12\, Cagliari\, 09123
CATEGORIES:Cagliari,Concerti
ATTACH;FMTTYPE=image/jpeg:https://sardegnaconcerti.it/wp-content/uploads/2022/12/max-gazze-tour-teatrale.jpg
END:VEVENT
END:VCALENDAR