BEGIN:VCALENDAR
VERSION:2.0
PRODID:-//Sardegna Concerti - ECPv6.15.20//NONSGML v1.0//EN
CALSCALE:GREGORIAN
METHOD:PUBLISH
X-WR-CALNAME:Sardegna Concerti
X-ORIGINAL-URL:https://sardegnaconcerti.it
X-WR-CALDESC:Eventi per Sardegna Concerti
REFRESH-INTERVAL;VALUE=DURATION:PT1H
X-Robots-Tag:noindex
X-PUBLISHED-TTL:PT1H
BEGIN:VTIMEZONE
TZID:UTC
BEGIN:STANDARD
TZOFFSETFROM:+0000
TZOFFSETTO:+0000
TZNAME:UTC
DTSTART:20230101T000000
END:STANDARD
END:VTIMEZONE
BEGIN:VEVENT
DTSTART;TZID=UTC:20240405T210000
DTEND;TZID=UTC:20240405T233000
DTSTAMP:20260421T191905
CREATED:20230928T162455Z
LAST-MODIFIED:20240423T170009Z
UID:6447-1712350800-1712359800@sardegnaconcerti.it
SUMMARY:Esperienze D.M - Il Tour - Teatro Comunale Sassari
DESCRIPTION:Esperienze D.M - Il Tour ti aspetta il 5 aprile 2023 al Teatro Comunale di Sassari a partire dalle ore 21:00! \nLe celebrità del web Awed\, Riccardo Dose e Dadda finalmente sbarcano sul palcoscenico teatrale portando in scena dal vivo uno dei format più amati sul web. "Esperienze D.M. - Il format" ti offre l'opportunità di immergerti direttamente nell'emozione delle storie di vita vissuta\, che potremmo definire "abbastanza particolari". La parola d'ordine di questa straordinaria esperienza? IMPROVVISAZIONE. \nIn questo spettacolo le storie verranno raccontate e commentate in modo del tutto spontaneo e istintivo\, dando vita a momenti unici e sorprendenti. Preparati a un'esperienza teatrale fuori dall'ordinario\, dove ogni dettaglio è affidato alla creatività e all'imprevedibilità del momento. Con "Esperienze D.M. - Il format" l'arte dell'improvvisazione raggiunge nuove vette\, portandoti più vicino che mai alla magia del vivere in diretta queste storie straordinarie.
URL:https://sardegnaconcerti.it/event/esperienze-d-m-tour-teatro-comunale-sassari/
LOCATION:Teatro Comunale di Sassari\, Viale Trieste\, 5\, Sassari\, 07100
CATEGORIES:Sassari
ATTACH;FMTTYPE=image/jpeg:https://sardegnaconcerti.it/wp-content/uploads/2023/09/esperienze-d-m-teatro-comunale-sassari.jpg
END:VEVENT
BEGIN:VEVENT
DTSTART;TZID=UTC:20240406T210000
DTEND;TZID=UTC:20240406T233000
DTSTAMP:20260421T191905
CREATED:20230928T162918Z
LAST-MODIFIED:20230928T162918Z
UID:6452-1712437200-1712446200@sardegnaconcerti.it
SUMMARY:Esperienze D.M - Il Tour - Teatro Massimo Cagliari
DESCRIPTION:Esperienze D.M - Il Tour ti aspetta il 6 aprile 2023 al Teatro Massimo di Cagliari a partire dalle ore 21:00! \nLe celebrità del web Awed\, Riccardo Dose e Dadda finalmente sbarcano sul palcoscenico teatrale portando in scena dal vivo uno dei format più amati sul web. "Esperienze D.M. - Il format" ti offre l'opportunità di immergerti direttamente nell'emozione delle storie di vita vissuta\, che potremmo definire "abbastanza particolari". La parola d'ordine di questa straordinaria esperienza? IMPROVVISAZIONE. \nIn questo spettacolo le storie verranno raccontate e commentate in modo del tutto spontaneo e istintivo\, dando vita a momenti unici e sorprendenti. Preparati a un'esperienza teatrale fuori dall'ordinario\, dove ogni dettaglio è affidato alla creatività e all'imprevedibilità del momento. Con "Esperienze D.M. - Il format" l'arte dell'improvvisazione raggiunge nuove vette\, portandoti più vicino che mai alla magia del vivere in diretta queste storie straordinarie.
URL:https://sardegnaconcerti.it/event/esperienze-d-m-tour-teatro-massimo-cagliari/
LOCATION:Teatro Massimo\, Cagliari\, Via E. De Magistris 12\, Cagliari\, 09123
CATEGORIES:Cagliari
ATTACH;FMTTYPE=image/jpeg:https://sardegnaconcerti.it/wp-content/uploads/2023/09/esperienze-d-m-tour-teatro-massimo-cagliari.jpg
END:VEVENT
BEGIN:VEVENT
DTSTART;TZID=UTC:20240408T210000
DTEND;TZID=UTC:20240408T233000
DTSTAMP:20260421T191905
CREATED:20240123T155522Z
LAST-MODIFIED:20240229T130919Z
UID:6611-1712610000-1712619000@sardegnaconcerti.it
SUMMARY:Io Sono Un Altro - Beppe Grillo @ Teatro Massimo Cagliari
DESCRIPTION:ACQUISTA IL BIGLIETTO\n  \nIo Sono Un Altro\, il nuovo spettacolo di Beppe Grillo\, ti aspetta l'8 aprile 2024 al Teatro Massimo di Cagliari a partire dalle ore 21:00! \n 
URL:https://sardegnaconcerti.it/event/io-sono-un-altro-beppe-grillo-teatro-massimo-cagliari/
LOCATION:Teatro Massimo\, Cagliari\, Via E. De Magistris 12\, Cagliari\, 09123
CATEGORIES:Cagliari
ATTACH;FMTTYPE=image/jpeg:https://sardegnaconcerti.it/wp-content/uploads/2024/01/io-sono-un-altro-beppe-grillo-cagliari-sassari.jpg
END:VEVENT
BEGIN:VEVENT
DTSTART;TZID=UTC:20240410T210000
DTEND;TZID=UTC:20240410T233000
DTSTAMP:20260421T191905
CREATED:20240129T161907Z
LAST-MODIFIED:20240229T130927Z
UID:6614-1712782800-1712791800@sardegnaconcerti.it
SUMMARY:Io Sono Un Altro - Beppe Grillo @ Teatro Verdi Sassari
DESCRIPTION:ACQUISTA IL BIGLIETTO\nIo Sono Un Altro\, il nuovo spettacolo di Beppe Grillo\, ti aspetta il 10 aprile 2024 al Teatro Verdi di Sassari a partire dalle ore 21:00! \nACQUISTA IL BIGLIETTO\n 
URL:https://sardegnaconcerti.it/event/io-sono-un-altro-beppe-grillo-live-teatro-verdi-sassari/
LOCATION:Teatro Verdi Sassari\, Via Politeama\, 8\, Sassari\, 07100\, Italia
CATEGORIES:Sassari
ATTACH;FMTTYPE=image/jpeg:https://sardegnaconcerti.it/wp-content/uploads/2024/01/io-sono-un-altro-beppe-grillo-teatro-massimo-teatro-comunale-sassari.jpg
END:VEVENT
BEGIN:VEVENT
DTSTART;TZID=UTC:20240430T210000
DTEND;TZID=UTC:20240430T233000
DTSTAMP:20260421T191905
CREATED:20240416T150830Z
LAST-MODIFIED:20240416T154128Z
UID:6699-1714510800-1714519800@sardegnaconcerti.it
SUMMARY:La Compagnia del Mocambo Live@ Teatro Massimo Cagliari
DESCRIPTION:ACQUISTA IL BIGLIETTO\nLa Compagnia del Mocambo ti aspetta martedì 30 aprile 2024 alla sala M2 del Teatro Massimo di Cagliari con la presentazione del disco “Vita D’Artista” a partire dalle ore 21:00! \nDopo oltre cinquant’anni di esperienza sui palchi\, il cantante e musicista sardo Sese Corrias pubblica le composizioni in questo nuovo album\, con gli arrangiamenti del pianista e compositore Salvatore Spano. \nSul palco insieme a loro Sandro Mura\, Alessandro Atzori\, Alessandro Angiolini e Pierpaolo Frailis\, con la partecipazione di Francesca Corrias\, Simone Dionigi Pala\, Francesco Sangiovanni\, Marino Argiolas\, Matteo Sedda. Presenta Giacomo Serreli. \nACQUISTA IL BIGLIETTO
URL:https://sardegnaconcerti.it/event/compagnia-mocambo-live-teatro-massimo-cagliari/
LOCATION:Teatro Massimo\, Cagliari\, Via E. De Magistris 12\, Cagliari\, 09123
CATEGORIES:Cagliari,Concerti
ATTACH;FMTTYPE=image/jpeg:https://sardegnaconcerti.it/wp-content/uploads/2024/04/Massimo24_MOCAMBO_Event.jpg
END:VEVENT
END:VCALENDAR