BEGIN:VCALENDAR
VERSION:2.0
PRODID:-//Sardegna Concerti - ECPv6.15.20//NONSGML v1.0//EN
CALSCALE:GREGORIAN
METHOD:PUBLISH
X-WR-CALNAME:Sardegna Concerti
X-ORIGINAL-URL:https://sardegnaconcerti.it
X-WR-CALDESC:Eventi per Sardegna Concerti
REFRESH-INTERVAL;VALUE=DURATION:PT1H
X-Robots-Tag:noindex
X-PUBLISHED-TTL:PT1H
BEGIN:VTIMEZONE
TZID:UTC
BEGIN:STANDARD
TZOFFSETFROM:+0000
TZOFFSETTO:+0000
TZNAME:UTC
DTSTART:20210101T000000
END:STANDARD
END:VTIMEZONE
BEGIN:VEVENT
DTSTART;TZID=UTC:20220914T210000
DTEND;TZID=UTC:20220914T233000
DTSTAMP:20260423T011407
CREATED:20220826T151244Z
LAST-MODIFIED:20220912T143957Z
UID:5865-1663189200-1663198200@sardegnaconcerti.it
SUMMARY:Gavino Murgia & DJ Gruff + Studio Murena * Cagliari Dal Vivo
DESCRIPTION:Lazzaretto Sant’Elia\, Cagliari\nDj Gruff\, protagonista indiscusso della scena hip hop italiana fin dalle sue origini\, incontra Gavino Murgia in occasione del progetto Sulle Onde di Marconi di Gavino\, tra i più apprezzati polistrumentisti sardi\, capace di unire con il suo stile unico tradizione sarda e sonorità jazz e afroamericane con sax soprano\, tenore\, baritono\, flauti \, duduk\, launeddas e canto a tenore. I due artisti si incontrano sul palco per sperimentare sonorità inedite dove groove\, musiche tradizionali\, rap e scratch vengono arricchiti dal suono del Maestro Murgia.\nLo scambio tra il giradischi di DJ Gruff e gli strumenti di Murgia creano un mix eccezionale tra hip hop e jazz\, sempre nuovo\, diverso e improvvisato. \nStudio Murena\, segnalata come una delle migliori 100 proposte del 2020 da Rockit\, è una band milanese tra le identità più originali e talentuose del nostro panorama musicale\, caratterizzata da una forte componente jazz\, funk e hip hop nelle strumentali e sorgente di infinite sperimentazioni che si muovono agilmente tra l’ambient ed il classico breakbeat\, arricchite da testi scritti e interpretati dalla voce ruvida ed energica del rapper Carma. \n \n  \n \n  \n*** \n\n  \nATTIVITÀ DI SPETTACOLO DAL VIVO NELLE AREE PERIFERICHE A FAVORE DI INCLUSIONE SOCIALE\, RIEQUILIBRIO TERRITORIALE E TUTELA OCCUPAZIONALE.\nDal 27 Agosto al 30 Ottobre la grande musica dal vivo nei quartieri periferici di Cagliari con un cartellone ricco di appuntamenti promosso dal Comune di Cagliari. \nScopri tutto il programma
URL:https://sardegnaconcerti.it/event/gavino-murgia-dj-gruff/
LOCATION:Lazzaretto Sant’Elia\, Cagliari
CATEGORIES:Cagliari,Concerti,Estate 2022
ATTACH;FMTTYPE=image/jpeg:https://sardegnaconcerti.it/wp-content/uploads/2022/08/MurgiaGruff.jpg
END:VEVENT
BEGIN:VEVENT
DTSTART;TZID=UTC:20220919T203000
DTEND;TZID=UTC:20220919T233000
DTSTAMP:20260423T011407
CREATED:20220817T145806Z
LAST-MODIFIED:20220826T083306Z
UID:5856-1663619400-1663630200@sardegnaconcerti.it
SUMMARY:Max Gazzè * Cagliari Dal Vivo
DESCRIPTION:Ingresso Libero – Lungomare Sant’Elia\, Cagliari\n  \nMAX GAZZÈ\nUna spettacolare festa in musica per far tornare a saltare le grandi piazze d’Italia: sono queste le premesse del nuovo lungo tour di Max Gazzè che torna live nelle più belle città d’Italia e nei più importanti Festival estivi. \nPrecursore di mode e temi\, eccellente performer da palcoscenico\, Gazzè ha scelto i grandi spazi all’aperto per ritrovare il contatto più genuino e diretto con il pubblico\, e riconquistare la dimensione più pura del live. \nIn questo spettacolare e collettivo viaggio estivo per l’Italia\, Max sarà accompagnato dalla sua band di eccellenti musicisti\, con Max Dedo ai fiati\, Cristiano Micalizzi alla batteria\, Clemente Ferrari alle tastiere\, Daniele Fiaschi alle chitarre\, e lo stesso Gazzè al basso. \nDopo aver conquistato le Arene\, i teatri e le suggestive location storiche d’Italia senza mai fermarsi\, e senza mai fermare la musica\, l’artista annuncia le prime date di questa nuova lunga tournée\, prodotta e organizzata da Francesco Barbaro per OTR live. \n*** \n\n  \nATTIVITÀ DI SPETTACOLO DAL VIVO NELLE AREE PERIFERICHE A FAVORE DI INCLUSIONE SOCIALE\, RIEQUILIBRIO TERRITORIALE E TUTELA OCCUPAZIONALE.\nDal Agosto al 30 Ottobre la grande musica dal vivo nei quartieri periferici di Cagliari con un cartellone ricco di appuntamenti promosso dal Comune di Cagliari. \nScopri tutto il programma
URL:https://sardegnaconcerti.it/event/max-gazze-cagliari-dal-vivo/
LOCATION:Lungomare Sant’Elia – Cagliari\, via Borgo Sant'Elia\, Cagliari\, Italia
CATEGORIES:Cagliari,Cagliari dal Vivo,Concerti,Estate 2022
ATTACH;FMTTYPE=image/jpeg:https://sardegnaconcerti.it/wp-content/uploads/2021/05/Max-Gazzè-Matematica-dei-Rami-Tour-21-08-2021-Riola-Sardo.jpg
END:VEVENT
END:VCALENDAR