BEGIN:VCALENDAR
VERSION:2.0
PRODID:-//Sardegna Concerti - ECPv6.15.20//NONSGML v1.0//EN
CALSCALE:GREGORIAN
METHOD:PUBLISH
X-WR-CALNAME:Sardegna Concerti
X-ORIGINAL-URL:https://sardegnaconcerti.it
X-WR-CALDESC:Eventi per Sardegna Concerti
REFRESH-INTERVAL;VALUE=DURATION:PT1H
X-Robots-Tag:noindex
X-PUBLISHED-TTL:PT1H
BEGIN:VTIMEZONE
TZID:UTC
BEGIN:STANDARD
TZOFFSETFROM:+0000
TZOFFSETTO:+0000
TZNAME:UTC
DTSTART:20220101T000000
END:STANDARD
END:VTIMEZONE
BEGIN:VEVENT
DTSTART;VALUE=DATE:20230521
DTEND;VALUE=DATE:20230619
DTSTAMP:20260423T100634
CREATED:20230512T110021Z
LAST-MODIFIED:20230515T170916Z
UID:6066-1684627200-1687132799@sardegnaconcerti.it
SUMMARY:La Musica Che Gira In Tondo - Rassegna musicale dedicata alle famiglie zerotre
DESCRIPTION:“…non esiste la musica per bambini\, esiste la musica” \nPensare ad una rassegna musicale interamente dedicata alle famiglie 0-3 anni è stato un percorso di riflessioni importanti\, che si sono connesse con fluidità alla mission di Jazzin’ Family\, ma che hanno soprattutto indagato su come la musica\, come esperienza fruita\, dovesse porsi per un pubblico così sensibile. \nLa musica che gira in tondo vuole narrare la storia di un viaggio capace di aprire orizzonti\, portando con sé il concetto di musica come strumento dinamico\, relazionale\, capace di fare disfare e ricomporre\, forme esperienziali che aderiscono profondamente alla natura umana. Musica che narra la storia di popoli e culture diverse e che attraversa il tempo rappresentando le epoche che si susseguono. Il punto di forza condiviso di questo progetto è che non sia necessario modificare la forma del concerto proposto\, pensando soprattutto alla fascia d’età del diretto fruitore\, ma che al contrario si debba aver cura delle modalità d’accoglienza\, delle caratteristiche del luogo che conterrà l’esperienza condivisa\, di come si potrà coabitare\, musicisti e pubblico\, durante la stessa. \nDa una parte emergono le fantasie in merito alle infinite variabili che il mondo dei piccolissimi mette in campo\, soprattutto quando si tratta di entrare in contatto con un linguaggio espressivo fruito dal vivo. Scegliere di eliminare la dimensione palco/platea (per altro improponibile in questa circostanza)\, rende possibile una libertà dello stare e dell’essere di tutti i presenti\, capace di accogliere risposte altrettanto espressive tanto quanto la musica proposta. Dall’altra\, il desiderio che la musica in tutte le sue forme stilistiche\, possa essere fruita da ogni essere umano senza nessuna discriminante o deformazione\, come se bambine e bambini piccolissimi non potessero gioire o comprendere l’esecuzione di un concerto di stile classico o jazz o contemporaneo. \nTroppo piccoli per restituire un qualsiasi tipo di apprezzamento? \nEbbene\, la musica prescinde da ogni limitazione che la mente è capace di generare. Diviene forte espressione di comunità e di identità\, segnando ogni momento importante della vita\, sia individuale che gruppale e generando connessioni a più livelli tanto che\, anche dei bambini-e così piccoli-e possono viverle\, generando la loro personale restituzione. \nChe risposta\, dunque\, ci interessa generare quando creiamo un’esperienza come questa? \nSicuramente non può e non deve esserci nessuna forma predefinita o aspettativa in merito. Al contrario ci si dovrà attendere un ventaglio di possibilità che vanno dal rimanere rapiti ed in ascolto tra le braccia di un genitore\, al correre per la stanza o danzare e gioire o piangere per l’intensità che solo la musica dal vivo sa creare\, o avvicinarsi ai musicisti ed ai loro strumenti perché affascinati ed incuriositi dalle frequenze potenti che emergono\, per esempio\, da un quartetto d’archi. Ed è proprio qui che la sfida si fa interessante\, perché realizzare questo progetto non può prescindere dal fatto di trovare dei musicisti disposti a vivere questa esperienza\, rimettendo in gioco tutti i parametri esecutivi che nel corso della loro carriera\, hanno forgiato ogni singola professionalità. \n4 Concerti per 4 ensemble di 4 stili musicali differenti: tradizionale\, jazz\, classico e contemporaneo. Per questa nuova edizione si raddoppia: un concerto la domenica mattina ed uno al pomeriggio. Anche per questa II edizione nuovi musicisti hanno accolto il nostro invito a cuore aperto e\, con estrema curiosità\, complice il grande successo della prima edizione dello scorso anno. \nVedremo dunque esibirsi: \n21.05.23 – Matteo Muntoni in trio – Nur – Bisu – dedicato alla musica tradizionale\n28.05.23 – Maltana – Peghin – Insulae Songs – dedicato al Jazz\n11.06.23 – Ensemble Trame Sonore – repertorio classico – dedicato alla classica\n18.06.23 – Andrea Ruggeri solo – ID card – dedicato al contemporaneo \nModalità di ingresso\n  \nSingoli Eventi\n  \n21.05.23 – Matteo Muntoni in trio – Nur – Bisu (dedicato alla musica tradizionale)\nTurno Mattina \nACQUISTA IL BIGLIETTO\nTurno Pomeriggio \nACQUISTA IL BIGLIETTO\n  \n28.05.23 Maltana – Peghin – Insulae Songs (dedicato al Jazz)\nTurno Mattina \nACQUISTA IL BIGLIETTO\nTurno Pomeriggio \nACQUISTA IL BIGLIETTO\n  \n11.06.23 Ensemble Trame Sonore – repertorio classico (dedicato alla classica)\nTurno Mattina \nACQUISTA IL BIGLIETTO\nTurno Pomeriggio \nACQUISTA IL BIGLIETTO\n  \n18.06.23 Andrea Ruggeri solo – ID card (dedicato al contemporaneo)\nTurno Mattina \nACQUISTA IL BIGLIETTO\nTurno Pomeriggio \nACQUISTA IL BIGLIETTO\n  \nBiglietto valido per un nucleo familiare (genitori + bimb*) \nAbbonamenti\nAcquista l’abbonamento per i 4 concerti della rassegna: \nEVENTI DEL MATTINO \nACQUISTA L’ABBONAMENTO\nEVENTI DELLA SERA \nACQUISTA L’ABBONAMENTO\nAbbonamento valido per un nucleo familiare (genitori + bimb*)
URL:https://sardegnaconcerti.it/event/la-musica-che-gira-in-tondo/
LOCATION:Teatro Massimo\, Cagliari\, Via E. De Magistris 12\, Cagliari\, 09123
CATEGORIES:Cagliari,Concerti
ATTACH;FMTTYPE=image/jpeg:https://sardegnaconcerti.it/wp-content/uploads/2023/05/Massimo23_MusicaInTondo_FBEvent-1.jpg
END:VEVENT
BEGIN:VEVENT
DTSTART;TZID=UTC:20230603T210000
DTEND;TZID=UTC:20230603T233000
DTSTAMP:20260423T100634
CREATED:20230419T165459Z
LAST-MODIFIED:20230527T085443Z
UID:6034-1685826000-1685835000@sardegnaconcerti.it
SUMMARY:Claudia Crabuzza "Grazia\, la Madre" - Omaggio in musica a Grazia Deledda Live@ Teatro Massimo Cagliari
DESCRIPTION:ACQUISTA IL BIGLIETTO\nCLAUDIA CRABUZZA – OMAGGIO IN MUSICA A GRAZIA DELEDDA \n“Una prova da grande interprete in un album “corale”\, che trasuda atmosfere\, sentimenti e paesaggi della Sardegna\, per una restituzione in musica dell’opera del Premio Nobel per la letteratura.” \nClaudia Crabuzza celebra il Premio Nobel per la letteratura Grazia Deledda con un imperdibile concerto dal vivo live il 3 giugno 2023 a partire dalle ore 21:00 nella sala M2 del Teatro Massimo di Cagliari. \nL’artista\, con la presentazione del suo nuovo CD-Book “Grazia\, la Madre“\, rende omaggio alla densità dell’opera di Deledda\, che ha trasformato il piccolo mondo delle origini in un racconto universale di emancipazione al femminile. Per iniziativa di Stefano Starace\, autore anche dei testi\, e con le musiche e gli arrangiamenti di Andrea Lubino e Fabio Manconi\, in dieci canzoni sono stati così trasposti altrettanti romanzi della Deledda\, capaci di parlare ancora al cuore della sensibilità contemporanea\, al fine di restituire in musica atmosfere\, paesaggi e profili umani consacrati in pagine davvero memorabili. \nSul palco\, insieme a Crabuzza\, una grade formazione con 18 artisti tra cantanti e musicisti\, con ben sette fiati e marimba: Fabio Manconi alla chitarra\, Andrea Lubino alla batteria\, Fabrizio Leoni al contrabbasso\, Leonardo Lubino alla marimba\, Stefano Saletti al bouzouki e tra le voci Caterinangela Fassa\, Elisa Carta Rita Casiddu\, Ilenia Romano e MIrco Menna. \n \n  \nUn tuffo nel mondo di Grazia Deledda\nNell’omaggio alla grande scrittrice sarda\, del resto\, confluiscono temi e motivi cari alla cantautrice di Alghero che\, nella sua più che ventennale carriera\, ha prestato sempre grande attenzione alla questione femminile e al recupero delle proprie radici in una prospettiva di confronto con altre culture. Già voce per due anni dei Tazenda\, poi fondatrice e leader dei Chichimeca\, ha cantato Gramsci e Pino Piras ma anche Victor Jara e Violeta Parra\, ha vinto il Premio Maria Carta ma anche il Premio Suns di Udine. E nel suo disco d’esordio come solista\, Com un soldat\, Targa Tenco Album in dialetto nel 2016\, ha messo a nudo\, nel catalano di Alghero\, l’anima e la forza di una donna e madre in una narrazione emblematicamente al femminile: motivi e temi che si ritrovano\, fortemente intrecciati tra loro\, nelle canzoni di questo nuovo album che\, fin dal titolo\, rimandano all’opera di Grazia Deledda come la lontana origine di tutto. \n“Grazia Deledda” ha dichiarato Claudia Crabuzza “è madre della cultura sarda anche per aver precorso i tempi\, per l’innovazione e la modernità dello stile letterario\, per la libertà della sua espressione artistica e per aver trasformato il piccolo e angusto mondo della sue origini in un racconto universale di esperienza e di volontà di emancipazione”. L’intero cd-book del resto trasuda aria\, sentimenti e cultura della Sardegna\, risultando l’esito di uno sforzo collettivo che ha chiamato in causa soprattutto risorse intellettuali dell’isola\, dalle musiche e arrangiamenti degli altri due componenti dei Chichimeca\, Lubino e Manconi\, ai dipinti di grande fascino e bellezza di Narcisa Monni\, dalla poesia di Paolo Pillanca alle traduzioni in sardo di Michele Pio Ledda\, dalle splendide fotografie di Marianne Sin-Pfältzer agli scritti introduttivi all’album a firma di Dino Gesuino Manca\, Neria De Giovanni e Antonello Zanda\, fino agli “Itinerari deleddiani”\, il documentario del 1962 di Remo Branca che\, nella versione restaurata della Cineteca Sarda\, il cd-book offre in visione\ntramite un QR Code. \nUn album corale e partecipato anche da un punto di vista musicale con il coinvolgimento di numerosi musicisti e artisti\, tra i quali Massimo Pitzianti\, storico collaboratore di Paolo Conte\, e altri due autori della Squilibri\, Canio Loguercio e Massimo Donno. Collaborazioni e interventi che accompagnano ed esaltano la prova da grande interprete di Claudia Crabuzza che\, adattando i testi alla forma canzone\, li ha come ritagliati\nsu misura della propria ispirazione per affidarli a un tappeto sonoro multiforme che\, dalla canzone d’autore\, si estende fino ad echi delle musiche del mondo. \n \n  \nClaudia Crabuzza in concerto al Teatro Massimo di Cagliari\nClaudia Crabuzza e e la sua band ti aspettano il 3 giugno 2023 al Teatro Massimo di Cagliari\, i biglietti per il concerto sono disponibili sul sito di Sardinia Ticket\, non perdere l’occasione e ottieni subito il tuo titolo d’ingresso! \nACQUISTA IL BIGLIETTO
URL:https://sardegnaconcerti.it/event/claudia-crabuzza-grazia-la-madre-live-teatro-massimo-cagliari/
LOCATION:Teatro Massimo\, Cagliari\, Via E. De Magistris 12\, Cagliari\, 09123
CATEGORIES:Cagliari,Concerti
ATTACH;FMTTYPE=image/jpeg:https://sardegnaconcerti.it/wp-content/uploads/2023/04/claudia_crabuzza_grazia_la_madre.jpg
END:VEVENT
BEGIN:VEVENT
DTSTART;TZID=UTC:20230611T110000
DTEND;TZID=UTC:20230611T180000
DTSTAMP:20260423T100634
CREATED:20230512T110028Z
LAST-MODIFIED:20230515T090529Z
UID:6108-1686481200-1686506400@sardegnaconcerti.it
SUMMARY:LA MUSICA CHE GIRA IN TONDO - Ensemble Trame Sonore
DESCRIPTION:“…non esiste la musica per bambini\, esiste la musica” \nJazzin’ Family presenta la seconda edizione della rassegna musicale “La musica che gira in tondo” dedicata alle famiglie 0-3 anni. \nLa musica che gira in tondo vuole narrare la storia di un viaggio capace di aprire orizzonti\, portando con sé il concetto di musica come strumento dinamico\, relazionale\, capace di fare disfare e ricomporre\, forme esperienziali che aderiscono profondamente alla natura umana. Musica che narra la storia di popoli e culture diverse e che attraversa il tempo rappresentando le epoche che si susseguono. \nDa quest’anno i concerti raddoppiano! Sempre 4 stili differenti: tradizionale\, jazz\, classico e contemporaneo\, ma a partire dalle numerose richieste\, ogni gruppo o solista\, si esibirà sia la mattina che il pomeriggio. \nNessun palco o platea nella sala M3 del Teatro Massimo\, che accoglierà i nuclei familiari (max 20 per turno) ed i musicisti in una dimensione di parità e senza barriere\, per consentire la fruizione in totale libertà di movimento ed interazione da parte di bambini-e e genitori. \nQuesta II edizione 2023 vedrà esibirsi: \n\n21.05.23 – Matteo Muntoni in trio – Nur – Bisu – dedicato alla musica tradizionale\n28.05.23 – Maltana – Peghin – Insulae Songs – dedicato al Jazz\n11.06.23 – Ensemble Trame Sonore – repertorio classico – dedicato alla classica\n18.06.23 – Andrea Ruggeri solo – ID card – dedicato al contemporaneo\n\n  \nEnsemble Trame Sonore (Musica Classica)\nL’Ensemble Trame Sonore nasce da un’idea di alcune musiciste provenienti da luoghi diverse dell’Italia e del mondo\, accomunate dalla voglia di far musica insieme ed intrecciare esperienze\, arte e spettacolo\, per lo più declinato al femminile\, aperto a collaborazioni con altri musicisti\, compositori\, scrittori e attori. Il nucleo centrale è composto da professoresse e professori dell’Orchestra del Teatro Lirico di Cagliari. \nParallelamente alle attività orchestrali\, di docenza e cameristiche in altre formazioni\, con questo Ensemble partecipano all’inaugurazione del Parco della Musica di Cagliari\, collaborano con molte realtà musicali in tutta Italia fra cui il circuito A.Gi.Mus\, con l’Accademia “Bernardo de Muro”\, e con il Teatro Lirico di Cagliari. \nCon lo spettacolo “Voci di donna”\, in collaborazione con la cantante Juliana Vivian Carone\, usano la loro arte per denunciare il dramma della violenza di genere che le porta ad esibirsi nei principali festival teatrali della Sardegna\, partecipano ad un Concerto – Reading insieme allo scrittore Piergiorgio Pulixi\, al Teatro Van Westerhout di Mola di Bari e al Teatro Lirico di Cagliari e\, prossimamente nel Duomo di Salerno. \nInformazioni\nLINE UP \n\nFrancesca Viero – oboe\nOlesya Emelyanenko: violino\nMartino Piroddi – viola\nKaren Hernandez: violoncello\n\n  \nLUOGO – Sala M3 Teatro Massimo Cagliari \nORARI – Turno mattina: 10:30 (Accoglienza) 11:00 – 12:00 | Turno pomeridiano: 16:30 (Accoglienza) 17:00 – 18:00 \nBiglietti\nTurno Mattina \nACQUISTA IL BIGLIETTO\nTurno Pomeriggio \nACQUISTA IL BIGLIETTO\nBiglietto valido per un nucleo familiare (genitori + bimb*). \nAbbonamenti\nAcquista l’abbonamento per i 4 concerti della rassegna: \nEVENTI DEL MATTINO \nACQUISTA L’ABBONAMENTO\nEVENTI DELLA SERA \nACQUISTA L’ABBONAMENTO\nAbbonamento valido per un nucleo familiare (genitori + bimb*). \n  \n 
URL:https://sardegnaconcerti.it/event/la-musica-che-gira-in-tondo-ensemble-trame-sonore/
LOCATION:Teatro Massimo\, Cagliari\, Via E. De Magistris 12\, Cagliari\, 09123
CATEGORIES:Cagliari,Concerti
ATTACH;FMTTYPE=image/jpeg:https://sardegnaconcerti.it/wp-content/uploads/2023/05/Trame-Sonore.jpg
END:VEVENT
BEGIN:VEVENT
DTSTART;TZID=UTC:20230618T110000
DTEND;TZID=UTC:20230618T180000
DTSTAMP:20260423T100634
CREATED:20230512T110029Z
LAST-MODIFIED:20230515T170702Z
UID:6113-1687086000-1687111200@sardegnaconcerti.it
SUMMARY:LA MUSICA CHE GIRA IN TONDO - Andrea Ruggeri Solo
DESCRIPTION:“…non esiste la musica per bambini\, esiste la musica” \nJazzin’ Family presenta la seconda edizione della rassegna musicale “La musica che gira in tondo” dedicata alle famiglie 0-3 anni. \nLa musica che gira in tondo vuole narrare la storia di un viaggio capace di aprire orizzonti\, portando con sé il concetto di musica come strumento dinamico\, relazionale\, capace di fare disfare e ricomporre\, forme esperienziali che aderiscono profondamente alla natura umana. Musica che narra la storia di popoli e culture diverse e che attraversa il tempo rappresentando le epoche che si susseguono. \nDa quest’anno i concerti raddoppiano! Sempre 4 stili differenti: tradizionale\, jazz\, classico e contemporaneo\, ma a partire dalle numerose richieste\, ogni gruppo o solista\, si esibirà sia la mattina che il pomeriggio. \nNessun palco o platea nella sala M3 del Teatro Massimo\, che accoglierà i nuclei familiari (max 20 per turno) ed i musicisti in una dimensione di parità e senza barriere\, per consentire la fruizione in totale libertà di movimento ed interazione da parte di bambini-e e genitori. \nQuesta II edizione 2023 vedrà esibirsi: \n\n21.05.23 – Matteo Muntoni in trio – Nur – Bisu – dedicato alla musica tradizionale\n28.05.23 – Maltana – Peghin – Insulae Songs – dedicato al Jazz\n11.06.23 – Ensemble Trame Sonore – repertorio classico – dedicato alla classica\n18.06.23 – Andrea Ruggeri solo – ID card – dedicato al contemporaneo\n\n  \nAndrea Ruggeri Solo (Musica Contemporanea)\nIDcard  \nUna carta d’identità in bianco. Ogni performance ridefinisce le generalità del musicista\, dello spazio-tempo occupato e la relazione artista-pubblico. IDcard è un pretesto per riflettere sull’identità oggi\, in questa epoca caratterizzata dalla forza centrifuga dell’allontanamento dal vero sé e quella centripeta della chiusura in se stessi. IDcard è anche l’acronimo della frase ironica “I Don’t Care About Right Drums”\, una concezione dello strumento inteso come generatore di suoni e ritmi\, al di là – ma senza rinnegarlo – del suo ruolo tradizionale. \nAndrea Ruggeri – batteria\, oggetti\, live electronics \nAttivo in ambito jazz\, world music\, libera improvvisazione\, nuove musiche\, ha collaborato e collabora con numerosi artisti nazionali ed internazionali\, suonando in diversi festival e rassegne in Italia\, Austria\, Francia\, Germania\, Belgio\, Grecia\, Spagna\, Romania\, Norvegia\, Russia\, Marocco\, e registrando oltre quaranta dischi. Dal 2014 è leader dell’ARE Andrea Ruggeri Ensemble che vede coinvolti tredici musicisti tra Sardegna\, Calabria\, Basilicata\, Val D’Aosta\, Lombardia\, Veneto e Friuli Venezia Giulia\, che si avvicendano in diversi progetti e formazioni. Il 2017 è l’anno del suo debutto in solo con la performance IDcard. Dal 2008 fa parte della giuria del Premio Andrea Parodi\, unico premio in Italia dedicato alla World Music. Ha tenuto e tiene laboratori e corsi di batteria\, musica d’insieme e improvvisazione presso diversi enti pubblici e privati\, scuole di musica\, case di riposo\, ospedali\, in Sardegna\, Veneto\, Lombardia e Piemonte. \nInformazioni\nLINE UP \n\nAndrea Ruggeri\n\n  \nLUOGO – Sala M3 Teatro Massimo Cagliari \nORARI – Turno mattina: 10:30 (Accoglienza) 11:00 – 12:00 | Turno pomeridiano: 16:00 (Accoglienza) 16:30 – 17:30 \nBiglietti\nTurno Mattina \nACQUISTA IL BIGLIETTO\nTurno Pomeriggio \nACQUISTA IL BIGLIETTO\nBiglietto valido per un nucleo familiare (genitori + bimb*). \nAbbonamenti\nAcquista l’abbonamento per i 4 concerti della rassegna: \nEVENTI DEL MATTINO \nACQUISTA L’ABBONAMENTO\nEVENTI DELLA SERA \nACQUISTA L’ABBONAMENTO\nAbbonamento valido per un nucleo familiare (genitori + bimb*). \n  \n 
URL:https://sardegnaconcerti.it/event/la-musica-che-gira-in-tondo-andrea-ruggeri-solo/
LOCATION:Teatro Massimo\, Cagliari\, Via E. De Magistris 12\, Cagliari\, 09123
CATEGORIES:Cagliari,Concerti
ATTACH;FMTTYPE=image/jpeg:https://sardegnaconcerti.it/wp-content/uploads/2023/05/Andrea-Ruggieri.jpg
END:VEVENT
END:VCALENDAR