BEGIN:VCALENDAR
VERSION:2.0
PRODID:-//Sardegna Concerti - ECPv6.15.20//NONSGML v1.0//EN
CALSCALE:GREGORIAN
METHOD:PUBLISH
X-ORIGINAL-URL:https://sardegnaconcerti.it
X-WR-CALDESC:Eventi per Sardegna Concerti
REFRESH-INTERVAL;VALUE=DURATION:PT1H
X-Robots-Tag:noindex
X-PUBLISHED-TTL:PT1H
BEGIN:VTIMEZONE
TZID:Europe/Rome
BEGIN:DAYLIGHT
TZOFFSETFROM:+0100
TZOFFSETTO:+0200
TZNAME:CEST
DTSTART:20210328T010000
END:DAYLIGHT
BEGIN:STANDARD
TZOFFSETFROM:+0200
TZOFFSETTO:+0100
TZNAME:CET
DTSTART:20211031T010000
END:STANDARD
BEGIN:DAYLIGHT
TZOFFSETFROM:+0100
TZOFFSETTO:+0200
TZNAME:CEST
DTSTART:20220327T010000
END:DAYLIGHT
BEGIN:STANDARD
TZOFFSETFROM:+0200
TZOFFSETTO:+0100
TZNAME:CET
DTSTART:20221030T010000
END:STANDARD
BEGIN:DAYLIGHT
TZOFFSETFROM:+0100
TZOFFSETTO:+0200
TZNAME:CEST
DTSTART:20230326T010000
END:DAYLIGHT
BEGIN:STANDARD
TZOFFSETFROM:+0200
TZOFFSETTO:+0100
TZNAME:CET
DTSTART:20231029T010000
END:STANDARD
END:VTIMEZONE
BEGIN:VEVENT
DTSTART;TZID=Europe/Rome:20220528T210000
DTEND;TZID=Europe/Rome:20220528T233000
DTSTAMP:20260424T061100
CREATED:20220426T181921Z
LAST-MODIFIED:20220618T202243Z
UID:5729-1653771600-1653780600@sardegnaconcerti.it
SUMMARY:Gruppo 2001 in concerto - Special guest Benito Urgu Live@ Teatro Massimo Cagliari
DESCRIPTION:ACQUISTA IL BIGLIETTO\nGRUPPO 2001 IN CONCERTO \n“SPECIAL GUEST BENITO URGU” \n  \nL’ODISSEA DI UN GRUPPO CULT DEGLI ANNI ’70 IN UNA SERATA EVENTO CON I PROTAGONISTI DI ALLORA. \nPRESENTA GIACOMO SERRELI \nARRANGIAMENTI E TRASCRIZIONI A CURA DI REMIGIO PILI E CORRADO ARAGONI \n  \nLA BAND: \nRemigio Pili: pianoforte/fisarmonica \nMassimo Pancotto: organo hammond \nTore Corazza: batteria/percussioni  \nFranco Montalbano: chitarra/voce \nPietro Carrus: voce/chitarra \nPaolo Carrus: voce/chitarra \n  \nL’ORCHESTRA \nGianluca Pischedda: violoncello \nMaria Teresa Sabato: violino \nMaurizio Floris: sax \nDario Zara: tromba \nMatteo Floris: trombone \nAlessio Povolo: basso \nGabriele Pancotto: voce \nLulli Lostia: voce \nFrancesca Pancotto: vocalist \nACQUISTA IL BIGLIETTO
URL:https://sardegnaconcerti.it/event/gruppo-2001-benito-urgu-teatro-massimo-cagliari/
LOCATION:Teatro Massimo\, Cagliari\, Via E. De Magistris 12\, Cagliari\, 09123
CATEGORIES:Cagliari,Concerti
ATTACH;FMTTYPE=image/jpeg:https://sardegnaconcerti.it/wp-content/uploads/2022/04/Massimo22_Gruppo2001_FBEvent-1-1024x576-1.jpg
END:VEVENT
END:VCALENDAR