BEGIN:VCALENDAR
VERSION:2.0
PRODID:-//Sardegna Concerti - ECPv6.15.20//NONSGML v1.0//EN
CALSCALE:GREGORIAN
METHOD:PUBLISH
X-WR-CALNAME:Sardegna Concerti
X-ORIGINAL-URL:https://sardegnaconcerti.it
X-WR-CALDESC:Eventi per Sardegna Concerti
REFRESH-INTERVAL;VALUE=DURATION:PT1H
X-Robots-Tag:noindex
X-PUBLISHED-TTL:PT1H
BEGIN:VTIMEZONE
TZID:Europe/Helsinki
BEGIN:DAYLIGHT
TZOFFSETFROM:+0200
TZOFFSETTO:+0300
TZNAME:EEST
DTSTART:20150329T010000
END:DAYLIGHT
BEGIN:STANDARD
TZOFFSETFROM:+0300
TZOFFSETTO:+0200
TZNAME:EET
DTSTART:20151025T010000
END:STANDARD
BEGIN:DAYLIGHT
TZOFFSETFROM:+0200
TZOFFSETTO:+0300
TZNAME:EEST
DTSTART:20160327T010000
END:DAYLIGHT
BEGIN:STANDARD
TZOFFSETFROM:+0300
TZOFFSETTO:+0200
TZNAME:EET
DTSTART:20161030T010000
END:STANDARD
BEGIN:DAYLIGHT
TZOFFSETFROM:+0200
TZOFFSETTO:+0300
TZNAME:EEST
DTSTART:20170326T010000
END:DAYLIGHT
BEGIN:STANDARD
TZOFFSETFROM:+0300
TZOFFSETTO:+0200
TZNAME:EET
DTSTART:20171029T010000
END:STANDARD
END:VTIMEZONE
BEGIN:VTIMEZONE
TZID:UTC
BEGIN:STANDARD
TZOFFSETFROM:+0000
TZOFFSETTO:+0000
TZNAME:UTC
DTSTART:19690101T000000
END:STANDARD
END:VTIMEZONE
BEGIN:VEVENT
DTSTART;TZID=Europe/Helsinki:20160414T200000
DTEND;TZID=Europe/Helsinki:20160414T233000
DTSTAMP:20260425T162056
CREATED:20160414T110757Z
LAST-MODIFIED:20160414T111223Z
UID:3188-1460664000-1460676600@sardegnaconcerti.it
SUMMARY:Rhythm 'n' Wine Presents Silvia Piras e i BandAçaì
DESCRIPTION:Rhythm ‘n’ Wine Presents Silvia Piras e i BandAçaì\n(Brazilian Forro’) \nSilvia Piras – Voce\,\nGiuseppe Baldino – Chitarra\,\nAntonello Carta – Fisarmonica\,\nMatteo Marongiu – Basso\nRoberto Migoni – Batteria/Percussioni \n***\nIl gruppo nasce dalla passione comune\, consolidata negli anni\, per la Musica Popolare Brasiliana\, in tutte le sue componenti ritmiche. BandAçaì dedica la fusione tra la cultura indigena\, africana ed europea\, che ha poi dato vita alla danza popolare più diffusa nel nord-est del Brasile: il Forrò. \nIl gruppo dei “BandAçaì” propone una rilettura del repertorio di danze brasiliane nordestine che parte dagli autori e interpreti classici (Luiz Gonzaga\, Jackson do Pandeiro\, João do Vale\, Marines\, Sivuca\, Dominguinhos) per arrivare a\nquelli più recenti. \n(Evento in collaborazione con Laura Raia Eventi)\n***\nPer prenotare chiamaci allo 070 8571621 o 392 9714207\no invia un SMS/Whatsapp al 39146 03924.\nApriamo alle 20.00. I posti per solo drink sono limitati.\nOrario consigliato per la cena entro le 20.45.\nIl concerto inizia alle 21.45 \nFor info and bookings call on 0039 070 857 1621 or  0039 392 9714207\nor send a text via Whatsapp on 0039 3914603924.\nDoors open at 8pm.\nBookings for drinks only are limited.\nRecommended time for dinner before 8:45pm\nConcert starts at 9:45pm
URL:https://sardegnaconcerti.it/event/rhythm-n-wine-presents-silvia-piras-e-i-bandacai-3/
LOCATION:Jazzino\, via Carloforte 74/76\, Cagliari\, 09123\, Italy
CATEGORIES:Jazzino
ATTACH;FMTTYPE=image/jpeg:https://sardegnaconcerti.it/wp-content/uploads/2016/04/facebook_event_953935731368409.jpg
END:VEVENT
BEGIN:VEVENT
DTSTART;TZID=UTC:20260425T162056
DTEND;TZID=UTC:20260425T162056
DTSTAMP:20260425T162056
CREATED:20240503T095552Z
LAST-MODIFIED:20240503T095552Z
UID:6753-0-0@sardegnaconcerti.it
SUMMARY:Titolo
DESCRIPTION:Descrizione
URL:https://sardegnaconcerti.it/event/titolo/
END:VEVENT
END:VCALENDAR