BEGIN:VCALENDAR
VERSION:2.0
PRODID:-//Sardegna Concerti - ECPv6.15.20//NONSGML v1.0//EN
CALSCALE:GREGORIAN
METHOD:PUBLISH
X-ORIGINAL-URL:https://sardegnaconcerti.it
X-WR-CALDESC:Eventi per Sardegna Concerti
REFRESH-INTERVAL;VALUE=DURATION:PT1H
X-Robots-Tag:noindex
X-PUBLISHED-TTL:PT1H
BEGIN:VTIMEZONE
TZID:UTC
BEGIN:STANDARD
TZOFFSETFROM:+0000
TZOFFSETTO:+0000
TZNAME:UTC
DTSTART:20230101T000000
END:STANDARD
END:VTIMEZONE
BEGIN:VEVENT
DTSTART;TZID=UTC:20241205T200000
DTEND;TZID=UTC:20241205T213000
DTSTAMP:20260422T090112
CREATED:20241105T205116Z
LAST-MODIFIED:20241105T205116Z
UID:7436-1733428800-1733434200@sardegnaconcerti.it
SUMMARY:Masterclass Francesco Baccini@ Teatro Massimo Cagliari
DESCRIPTION: MASTERCLASS FRANCESCO BACCINI \n giovedì 5 dicembre 2024  \nh. 20:00 -21:30  \nTeatro Massimo Cagliari \nIngresso libero\, per iscrizioni: accademiadelpop@gmail.com \nLa masterclass di Francesco Baccini è un percorso approfondito sulla canzone d’autore\, dalla Scuola Genovese agli sviluppi contemporanei. \nAttraverso l’esperienza e la visione di uno dei protagonisti del genere\, si esplorano le radici della tradizione genovese e l’evoluzione della canzone d’autore italiana dagli anni ’80 fino a oggi\, con un’analisi delle differenze stilistiche e tematiche tra passato e presente.  \nViene inoltre esaminato il valore sociale e culturale della canzone d’autore\, il suo ruolo nell’espressione delle emozioni collettive e nella narrazione di storie significative per più generazioni.
URL:https://sardegnaconcerti.it/event/masterclass-francesco-baccini-teatro-massimo-cagliari/
LOCATION:Teatro Massimo\, Cagliari\, Via E. De Magistris 12\, Cagliari\, 09123
CATEGORIES:Cagliari
ATTACH;FMTTYPE=image/jpeg:https://sardegnaconcerti.it/wp-content/uploads/2024/11/tinywow_POPAcademy24_Baccini_Event_68535945.jpg
END:VEVENT
END:VCALENDAR