BEGIN:VCALENDAR
VERSION:2.0
PRODID:-//Sardegna Concerti - ECPv6.15.20//NONSGML v1.0//EN
CALSCALE:GREGORIAN
METHOD:PUBLISH
X-WR-CALNAME:Sardegna Concerti
X-ORIGINAL-URL:https://sardegnaconcerti.it
X-WR-CALDESC:Eventi per Sardegna Concerti
REFRESH-INTERVAL;VALUE=DURATION:PT1H
X-Robots-Tag:noindex
X-PUBLISHED-TTL:PT1H
BEGIN:VTIMEZONE
TZID:UTC
BEGIN:STANDARD
TZOFFSETFROM:+0000
TZOFFSETTO:+0000
TZNAME:UTC
DTSTART:20230101T000000
END:STANDARD
END:VTIMEZONE
BEGIN:VEVENT
DTSTART;TZID=UTC:20241002T170000
DTEND;TZID=UTC:20241002T190000
DTSTAMP:20260422T103501
CREATED:20240919T074338Z
LAST-MODIFIED:20240919T074338Z
UID:7363-1727888400-1727895600@sardegnaconcerti.it
SUMMARY:Masterclass con Peter Erskine @ Teatro Massimo Cagliari
DESCRIPTION:Peter Erskine\, uno dei batteristi jazz più celebri al mondo\, è noto per la sua straordinaria versatilità e il suo tocco raffinato che lo rendendolo una figura di spicco non solo nel jazz ma in una vasta gamma di generi musicali. \nNella sua carriera artistica Erskine appare in oltre 700 album e colonne sonore di film\, ha vinto due Grammy Awards\, oltre a un dottorato onorario presso la Berklee School of Music. \nNella sua lunga carriera artistica Erskine ha registrato ben cinquanta album a suo nome o come co-leader. \nHa suonato e registrato con le Big Band di Stan Kenton e Maynard Ferguson\, Weather Report\, Steps Ahead\, Joni Mitchell\, Steely Dan\, Diana Krall\, Kenny Wheeler\, Mary Chapin Carpenter\, The Brecker Brothers\, The Yellowjackets\, Pat Metheny e Gary Burton\, John Scofield. \nLe sue masterclass sono opportunità uniche per batteristi e musicisti di ogni livello di immergersi in un’esperienza formativa ricca di conoscenze tecniche\, consigli pratici e ispirazione artistica. \nDurante la masterclass con Peter Erskine\, i partecipanti hanno l’opportunità di esplorare in modo approfondito le tecniche di batteria che lo hanno reso famoso. \nErskine è noto per il suo approccio preciso al timing e al controllo dinamico\, e dedica ampio spazio all’insegnamento di come gestire il tempo in modo efficace\, adattandosi alle esigenze di ogni pezzo e del contesto musicale. \nAttraverso dimostrazioni pratiche ed esercizi mirati\, Erskine guida i partecipanti nello sviluppo di una tecnica che consente loro di suonare con fluidità e musicalità. \nUn aspetto centrale della sua masterclass è l’interpretazione musicale e l’interazione all’interno di un ensemble. Erskine sottolinea l’importanza dell’ascolto attivo e della comunicazione tra i musicisti\, spiegando come la batteria possa fungere da ponte tra le varie sezioni di una band. Insegna ai partecipanti come creare groove solidi e coinvolgenti mantenendo sempre una forte connessione con gli altri strumenti e il pubblico. \nOltre alla tecnica e all’nterazione musicale\, Erskine dedica tempo anche alla gestione della carriera e alla professionalità nel mondo della musica. Durante la sessione Erskine condividerà aneddoti e lezioni apprese nel corso della sua lunga carriera\, offre preziosi consigli su come orientarsi nel complesso mondo dell’industria musicale mantenendo sempre l’integrità artistica. \nLa masterclass di Peter Erskine offrirà un’esperienza educativa completa\, combinando istruzione tecnica con ispirazione artistica e saggezza pratica. \nI partecipanti usciranno arricchiti non solo come batteristi\, ma come musicisti a tutto tondo\, pronti ad affrontare nuove sfide artistiche e professionali. \n  \nPer info e prenotazioni accademiadelpop@gmail.com
URL:https://sardegnaconcerti.it/event/masterclass-batteria-peter-erskine/
LOCATION:Teatro Massimo\, Cagliari\, Via E. De Magistris 12\, Cagliari\, 09123
CATEGORIES:Cagliari
ATTACH;FMTTYPE=image/webp:https://sardegnaconcerti.it/wp-content/uploads/2024/09/POPAcademy24_PeterErskine_FBEvent-copy.webp
END:VEVENT
END:VCALENDAR